Package: uncoverappLib Version: 1.19.0 Command: /home/biocbuild/bbs-3.22-bioc/R/bin/R CMD INSTALL uncoverappLib StartedAt: 2025-10-24 16:10:31 -0400 (Fri, 24 Oct 2025) EndedAt: 2025-10-24 16:11:29 -0400 (Fri, 24 Oct 2025) EllapsedTime: 57.8 seconds RetCode: 0 Status: OK