Package: uncoverappLib Version: 1.20.0 Command: /home/biocbuild/bbs-3.22-bioc/R/bin/R CMD check --install=check:uncoverappLib.install-out.txt --library=/home/biocbuild/bbs-3.22-bioc/R/site-library --timings uncoverappLib_1.20.0.tar.gz StartedAt: 2025-11-01 05:19:09 -0400 (Sat, 01 Nov 2025) EndedAt: 2025-11-01 05:25:54 -0400 (Sat, 01 Nov 2025) EllapsedTime: 405.4 seconds RetCode: 0 Status: OK CheckDir: uncoverappLib.Rcheck Warnings: 0