Package: uncoverappLib Version: 1.19.0 Command: /Library/Frameworks/R.framework/Resources/bin/R CMD INSTALL uncoverappLib StartedAt: 2025-10-24 15:34:36 -0400 (Fri, 24 Oct 2025) EndedAt: 2025-10-24 15:35:01 -0400 (Fri, 24 Oct 2025) EllapsedTime: 24.6 seconds RetCode: 0 Status: OK