Package: uncoverappLib Version: 1.19.0 Command: /Library/Frameworks/R.framework/Resources/bin/R CMD build --keep-empty-dirs --no-resave-data uncoverappLib StartedAt: 2025-10-24 18:04:20 -0400 (Fri, 24 Oct 2025) EndedAt: 2025-10-24 18:04:54 -0400 (Fri, 24 Oct 2025) EllapsedTime: 34.4 seconds RetCode: 0 Status: OK PackageFile: uncoverappLib_1.19.0.tar.gz PackageFileSize: 3.43 MiB