Package: uncoverappLib Version: 1.19.0 Command: rm -rf uncoverappLib.buildbin-libdir && mkdir uncoverappLib.buildbin-libdir && /Users/biocbuild/BBS/utils/build-universal.sh uncoverappLib_1.19.0.tar.gz /Library/Frameworks/R.framework/Resources/bin/R uncoverappLib.buildbin-libdir StartedAt: 2025-10-24 23:23:30 -0400 (Fri, 24 Oct 2025) EndedAt: 2025-10-24 23:23:57 -0400 (Fri, 24 Oct 2025) EllapsedTime: 26.5 seconds RetCode: 0 Status: OK PackageFile: uncoverappLib_1.19.0.tgz PackageFileSize: 2.833 MiB