Package: uncoverappLib Version: 1.20.0 Maintainer: Emanuela Iovino MaintainerEmail: emanuela.iovino at unibo.it git_url: https://git.bioconductor.org/packages/uncoverappLib git_branch: RELEASE_3_22 git_last_commit: e5e7acf git_last_commit_date: 2025-10-29 11:01:16 -0400 (Wed, 29 Oct 2025)