Package: tweeDEseq Version: 1.55.0 Command: /home/biocbuild/bbs-3.22-bioc/R/bin/R CMD INSTALL tweeDEseq StartedAt: 2025-10-24 15:15:50 -0400 (Fri, 24 Oct 2025) EndedAt: 2025-10-24 15:16:01 -0400 (Fri, 24 Oct 2025) EllapsedTime: 11.2 seconds RetCode: 0 Status: OK