Package: tweeDEseq Version: 1.55.0 Command: /home/biocbuild/bbs-3.22-bioc/R/bin/R CMD build --keep-empty-dirs --no-resave-data --md5 tweeDEseq StartedAt: 2025-10-24 20:45:27 -0400 (Fri, 24 Oct 2025) EndedAt: 2025-10-24 20:55:08 -0400 (Fri, 24 Oct 2025) EllapsedTime: 581.4 seconds RetCode: 0 Status: OK PackageFile: tweeDEseq_1.55.0.tar.gz PackageFileSize: 236.3 KiB