Package: tripr Version: 1.15.0 Command: /home/biocbuild/bbs-3.22-bioc/R/bin/R CMD INSTALL tripr StartedAt: 2025-10-24 15:20:26 -0400 (Fri, 24 Oct 2025) EndedAt: 2025-10-24 15:21:06 -0400 (Fri, 24 Oct 2025) EllapsedTime: 40.1 seconds RetCode: 0 Status: OK