Package: tripr Version: 1.15.0 Command: /home/biocbuild/bbs-3.22-bioc/R/bin/R CMD build --keep-empty-dirs --no-resave-data --md5 tripr StartedAt: 2025-10-24 20:44:22 -0400 (Fri, 24 Oct 2025) EndedAt: 2025-10-24 20:45:12 -0400 (Fri, 24 Oct 2025) EllapsedTime: 49.0 seconds RetCode: 0 Status: OK PackageFile: tripr_1.15.0.tar.gz PackageFileSize: 2.942 MiB