Package: triplex Version: 1.49.0 Command: /home/biocbuild/bbs-3.22-bioc/R/bin/R CMD INSTALL triplex StartedAt: 2025-10-24 15:48:37 -0400 (Fri, 24 Oct 2025) EndedAt: 2025-10-24 15:48:52 -0400 (Fri, 24 Oct 2025) EllapsedTime: 15.9 seconds RetCode: 0 Status: OK