Package: tricycle Version: 1.18.0 Command: /home/biocbuild/bbs-3.22-bioc/R/bin/R CMD INSTALL tricycle StartedAt: 2025-11-02 16:10:57 -0500 (Sun, 02 Nov 2025) EndedAt: 2025-11-02 16:11:37 -0500 (Sun, 02 Nov 2025) EllapsedTime: 39.4 seconds RetCode: 0 Status: OK