Package: tricycle Version: 1.18.0 Command: /home/biocbuild/bbs-3.22-bioc/R/bin/R CMD build --keep-empty-dirs --no-resave-data --md5 tricycle StartedAt: 2025-11-03 20:39:37 -0500 (Mon, 03 Nov 2025) EndedAt: 2025-11-03 20:40:40 -0500 (Mon, 03 Nov 2025) EllapsedTime: 63.0 seconds RetCode: 0 Status: OK PackageFile: tricycle_1.18.0.tar.gz PackageFileSize: 4.294 MiB