Package: treekoR Version: 1.17.0 Command: /home/biocbuild/R/R/bin/R CMD build --keep-empty-dirs --no-resave-data treekoR StartedAt: 2025-10-21 03:51:08 -0000 (Tue, 21 Oct 2025) EndedAt: 2025-10-21 03:53:05 -0000 (Tue, 21 Oct 2025) EllapsedTime: 116.0 seconds RetCode: 0 Status: OK PackageFile: treekoR_1.17.0.tar.gz PackageFileSize: 1.827 MiB