Package: treekoR Version: 1.17.0 Command: /Library/Frameworks/R.framework/Resources/bin/R CMD build --keep-empty-dirs --no-resave-data treekoR StartedAt: 2025-10-24 19:07:30 -0400 (Fri, 24 Oct 2025) EndedAt: 2025-10-24 19:09:11 -0400 (Fri, 24 Oct 2025) EllapsedTime: 100.7 seconds RetCode: 0 Status: OK PackageFile: treekoR_1.17.0.tar.gz PackageFileSize: 1.707 MiB