Package: treekoR Version: 1.17.0 Command: /Library/Frameworks/R.framework/Resources/bin/R CMD INSTALL treekoR StartedAt: 2025-10-24 15:17:15 -0400 (Fri, 24 Oct 2025) EndedAt: 2025-10-24 15:17:33 -0400 (Fri, 24 Oct 2025) EllapsedTime: 17.7 seconds RetCode: 0 Status: OK