Package: treekoR Version: 1.18.0 Command: /Library/Frameworks/R.framework/Resources/bin/R CMD check --install=check:treekoR.install-out.txt --library=/Library/Frameworks/R.framework/Resources/library --no-vignettes --timings treekoR_1.18.0.tar.gz StartedAt: 2025-10-31 22:39:24 -0400 (Fri, 31 Oct 2025) EndedAt: 2025-10-31 22:41:22 -0400 (Fri, 31 Oct 2025) EllapsedTime: 118.4 seconds RetCode: 0 Status: OK CheckDir: treekoR.Rcheck Warnings: 0