Package: treeio Version: 1.33.0 Command: /home/biocbuild/R/R/bin/R CMD INSTALL treeio StartedAt: 2025-10-23 20:26:35 -0000 (Thu, 23 Oct 2025) EndedAt: 2025-10-23 20:26:48 -0000 (Thu, 23 Oct 2025) EllapsedTime: 12.6 seconds RetCode: 0 Status: OK