Package: treeio Version: 1.33.0 Command: /Library/Frameworks/R.framework/Resources/bin/R CMD INSTALL treeio StartedAt: 2025-10-24 15:19:06 -0400 (Fri, 24 Oct 2025) EndedAt: 2025-10-24 15:19:32 -0400 (Fri, 24 Oct 2025) EllapsedTime: 25.6 seconds RetCode: 0 Status: OK