Package: treeclimbR Version: 1.5.1 Maintainer: Charlotte Soneson MaintainerEmail: charlottesoneson at gmail.com git_url: https://git.bioconductor.org/packages/treeclimbR git_branch: devel git_last_commit: 88e3b05 git_last_commit_date: 2025-07-18 05:35:35 -0400 (Fri, 18 Jul 2025)