Package: traseR Version: 1.39.0 Command: /home/biocbuild/bbs-3.22-bioc/R/bin/R CMD INSTALL traseR StartedAt: 2025-10-24 15:45:14 -0400 (Fri, 24 Oct 2025) EndedAt: 2025-10-24 15:45:46 -0400 (Fri, 24 Oct 2025) EllapsedTime: 31.9 seconds RetCode: 0 Status: OK