Package: transomics2cytoscape Version: 1.19.0 Command: /home/biocbuild/bbs-3.22-bioc/R/bin/R CMD INSTALL transomics2cytoscape StartedAt: 2025-10-27 15:27:59 -0400 (Mon, 27 Oct 2025) EndedAt: 2025-10-27 15:28:03 -0400 (Mon, 27 Oct 2025) EllapsedTime: 3.1 seconds RetCode: 0 Status: OK