Package: transmogR Version: 1.5.3 Command: /home/biocbuild/bbs-3.22-bioc/R/bin/R CMD build --keep-empty-dirs --no-resave-data --md5 transmogR StartedAt: 2025-10-24 20:43:03 -0400 (Fri, 24 Oct 2025) EndedAt: 2025-10-24 20:44:20 -0400 (Fri, 24 Oct 2025) EllapsedTime: 77.1 seconds RetCode: 0 Status: OK PackageFile: transmogR_1.5.3.tar.gz PackageFileSize: 585 KiB