Package: transite Version: 1.27.1 Command: /home/biocbuild/bbs-3.22-bioc/R/bin/R CMD INSTALL transite StartedAt: 2025-10-24 15:41:29 -0400 (Fri, 24 Oct 2025) EndedAt: 2025-10-24 15:41:51 -0400 (Fri, 24 Oct 2025) EllapsedTime: 21.6 seconds RetCode: 0 Status: OK