Package: transite Version: 1.27.1 Command: /home/biocbuild/bbs-3.22-bioc/R/bin/R CMD build --keep-empty-dirs --no-resave-data --md5 transite StartedAt: 2025-10-24 20:42:52 -0400 (Fri, 24 Oct 2025) EndedAt: 2025-10-24 20:43:27 -0400 (Fri, 24 Oct 2025) EllapsedTime: 35.1 seconds RetCode: 0 Status: OK PackageFile: transite_1.27.1.tar.gz PackageFileSize: 640.4 KiB