Package: transcriptogramer Version: 1.32.0 Command: /home/biocbuild/R/R/bin/R CMD INSTALL transcriptogramer StartedAt: 2025-11-20 22:30:32 -0000 (Thu, 20 Nov 2025) EndedAt: 2025-11-20 22:31:08 -0000 (Thu, 20 Nov 2025) EllapsedTime: 36.1 seconds RetCode: 0 Status: OK