Package: transcriptogramer Version: 1.32.0 Command: /home/biocbuild/R/R/bin/R CMD build --keep-empty-dirs --no-resave-data transcriptogramer StartedAt: 2025-11-21 06:34:55 -0000 (Fri, 21 Nov 2025) EndedAt: 2025-11-21 06:55:11 -0000 (Fri, 21 Nov 2025) EllapsedTime: 1216.5 seconds RetCode: 0 Status: OK PackageFile: transcriptogramer_1.32.0.tar.gz PackageFileSize: 3.656 MiB