Package: transcriptogramer Version: 1.31.0 Command: /home/biocbuild/bbs-3.22-bioc/R/bin/R CMD INSTALL transcriptogramer StartedAt: 2025-10-24 15:50:37 -0400 (Fri, 24 Oct 2025) EndedAt: 2025-10-24 15:51:03 -0400 (Fri, 24 Oct 2025) EllapsedTime: 26.0 seconds RetCode: 0 Status: OK