Package: transcriptogramer Version: 1.31.0 Command: /home/biocbuild/bbs-3.22-bioc/R/bin/R CMD check --install=check:transcriptogramer.install-out.txt --library=/home/biocbuild/bbs-3.22-bioc/R/site-library --timings transcriptogramer_1.31.0.tar.gz StartedAt: 2025-10-25 05:03:50 -0400 (Sat, 25 Oct 2025) EndedAt: 2025-10-25 05:18:42 -0400 (Sat, 25 Oct 2025) EllapsedTime: 891.9 seconds RetCode: 0 Status: OK CheckDir: transcriptogramer.Rcheck Warnings: 0