Package: transcriptogramer Version: 1.31.0 Command: /Library/Frameworks/R.framework/Resources/bin/R CMD INSTALL transcriptogramer StartedAt: 2025-10-24 15:42:46 -0400 (Fri, 24 Oct 2025) EndedAt: 2025-10-24 15:43:23 -0400 (Fri, 24 Oct 2025) EllapsedTime: 36.8 seconds RetCode: 0 Status: OK