Package: transcriptogramer Version: 1.31.0 Command: rm -rf transcriptogramer.buildbin-libdir && mkdir transcriptogramer.buildbin-libdir && /Users/biocbuild/BBS/utils/build-universal.sh transcriptogramer_1.31.0.tar.gz /Library/Frameworks/R.framework/Resources/bin/R transcriptogramer.buildbin-libdir StartedAt: 2025-10-25 02:09:16 -0400 (Sat, 25 Oct 2025) EndedAt: 2025-10-25 02:09:55 -0400 (Sat, 25 Oct 2025) EllapsedTime: 39.4 seconds RetCode: 0 Status: OK PackageFile: transcriptogramer_1.31.0.tgz PackageFileSize: 5.451 MiB