Package: transcriptogramer Version: 1.31.0 Command: /Library/Frameworks/R.framework/Resources/bin/R CMD INSTALL transcriptogramer StartedAt: 2025-10-24 15:26:56 -0400 (Fri, 24 Oct 2025) EndedAt: 2025-10-24 15:27:07 -0400 (Fri, 24 Oct 2025) EllapsedTime: 10.8 seconds RetCode: 0 Status: OK