Package: transcriptogramer Version: 1.31.0 Command: /Library/Frameworks/R.framework/Resources/bin/R CMD build --keep-empty-dirs --no-resave-data transcriptogramer StartedAt: 2025-10-24 18:01:12 -0400 (Fri, 24 Oct 2025) EndedAt: 2025-10-24 18:06:47 -0400 (Fri, 24 Oct 2025) EllapsedTime: 334.8 seconds RetCode: 0 Status: OK PackageFile: transcriptogramer_1.31.0.tar.gz PackageFileSize: 3.63 MiB