Package: transcriptR Version: 1.37.0 Command: /home/biocbuild/R/R/bin/R CMD INSTALL transcriptR StartedAt: 2025-10-23 21:22:40 -0000 (Thu, 23 Oct 2025) EndedAt: 2025-10-23 21:23:42 -0000 (Thu, 23 Oct 2025) EllapsedTime: 62.5 seconds RetCode: 0 Status: OK