Package: transcriptR Version: 1.37.0 Command: /home/biocbuild/bbs-3.22-bioc/R/bin/R CMD INSTALL transcriptR StartedAt: 2025-10-24 16:07:38 -0400 (Fri, 24 Oct 2025) EndedAt: 2025-10-24 16:08:25 -0400 (Fri, 24 Oct 2025) EllapsedTime: 46.9 seconds RetCode: 0 Status: OK