Package: transcriptR Version: 1.37.0 Command: /home/biocbuild/bbs-3.22-bioc/R/bin/R CMD check --install=check:transcriptR.install-out.txt --library=/home/biocbuild/bbs-3.22-bioc/R/site-library --timings transcriptR_1.37.0.tar.gz StartedAt: 2025-10-28 05:02:54 -0400 (Tue, 28 Oct 2025) EndedAt: 2025-10-28 05:10:42 -0400 (Tue, 28 Oct 2025) EllapsedTime: 467.5 seconds RetCode: 1 Status: ERROR CheckDir: transcriptR.Rcheck Warnings: NA