Package: transcriptR Version: 1.37.0 Command: /Library/Frameworks/R.framework/Resources/bin/R CMD INSTALL transcriptR StartedAt: 2025-10-24 15:56:35 -0400 (Fri, 24 Oct 2025) EndedAt: 2025-10-24 15:57:41 -0400 (Fri, 24 Oct 2025) EllapsedTime: 65.6 seconds RetCode: 0 Status: OK