Package: transcriptR Version: 1.37.0 Command: rm -rf transcriptR.buildbin-libdir && mkdir transcriptR.buildbin-libdir && /Users/biocbuild/BBS/utils/build-universal.sh transcriptR_1.37.0.tar.gz /Library/Frameworks/R.framework/Resources/bin/R transcriptR.buildbin-libdir StartedAt: 2025-10-25 02:09:17 -0400 (Sat, 25 Oct 2025) EndedAt: 2025-10-25 02:10:24 -0400 (Sat, 25 Oct 2025) EllapsedTime: 67.4 seconds RetCode: 0 Status: OK PackageFile: transcriptR_1.37.0.tgz PackageFileSize: 3.191 MiB