Package: trackViewer Version: 1.45.3 Command: /home/biocbuild/bbs-3.22-bioc/R/bin/R CMD INSTALL trackViewer StartedAt: 2025-10-24 15:58:34 -0400 (Fri, 24 Oct 2025) EndedAt: 2025-10-24 15:59:34 -0400 (Fri, 24 Oct 2025) EllapsedTime: 59.9 seconds RetCode: 0 Status: OK