Package: trackViewer Version: 1.45.3 Command: /home/biocbuild/bbs-3.22-bioc/R/bin/R CMD build --keep-empty-dirs --no-resave-data --md5 trackViewer StartedAt: 2025-10-24 20:42:02 -0400 (Fri, 24 Oct 2025) EndedAt: 2025-10-24 20:53:43 -0400 (Fri, 24 Oct 2025) EllapsedTime: 700.6 seconds RetCode: 0 Status: OK PackageFile: trackViewer_1.45.3.tar.gz PackageFileSize: 10.54 MiB