Package: trackViewer Version: 1.45.3 Command: /Library/Frameworks/R.framework/Resources/bin/R CMD INSTALL trackViewer StartedAt: 2025-10-24 15:49:55 -0400 (Fri, 24 Oct 2025) EndedAt: 2025-10-24 15:51:16 -0400 (Fri, 24 Oct 2025) EllapsedTime: 81.6 seconds RetCode: 0 Status: OK