Package: trackViewer Version: 1.45.3 Command: /Library/Frameworks/R.framework/Resources/bin/R CMD build --keep-empty-dirs --no-resave-data trackViewer StartedAt: 2025-10-24 19:06:10 -0400 (Fri, 24 Oct 2025) EndedAt: 2025-10-24 19:19:10 -0400 (Fri, 24 Oct 2025) EllapsedTime: 779.5 seconds RetCode: 0 Status: OK PackageFile: trackViewer_1.45.3.tar.gz PackageFileSize: 12.83 MiB