Package: trackViewer Version: 1.45.3 Command: rm -rf trackViewer.buildbin-libdir && mkdir trackViewer.buildbin-libdir && /Users/biocbuild/BBS/utils/build-universal.sh trackViewer_1.45.3.tar.gz /Library/Frameworks/R.framework/Resources/bin/R trackViewer.buildbin-libdir StartedAt: 2025-10-25 02:09:12 -0400 (Sat, 25 Oct 2025) EndedAt: 2025-10-25 02:10:39 -0400 (Sat, 25 Oct 2025) EllapsedTime: 86.8 seconds RetCode: 0 Status: OK PackageFile: trackViewer_1.45.3.tgz PackageFileSize: 13.58 MiB