Package: tpSVG Version: 1.6.0 Command: /Library/Frameworks/R.framework/Resources/bin/R CMD INSTALL tpSVG StartedAt: 2025-11-03 15:27:49 -0500 (Mon, 03 Nov 2025) EndedAt: 2025-11-03 15:28:21 -0500 (Mon, 03 Nov 2025) EllapsedTime: 31.5 seconds RetCode: 0 Status: OK