Package: tpSVG Version: 1.6.0 Command: /Library/Frameworks/R.framework/Resources/bin/R CMD build --keep-empty-dirs --no-resave-data tpSVG StartedAt: 2025-11-03 19:07:13 -0500 (Mon, 03 Nov 2025) EndedAt: 2025-11-03 19:08:47 -0500 (Mon, 03 Nov 2025) EllapsedTime: 94.7 seconds RetCode: 0 Status: OK PackageFile: tpSVG_1.6.0.tar.gz PackageFileSize: 1.237 MiB