Package: tpSVG Version: 1.6.0 Command: /Library/Frameworks/R.framework/Resources/bin/R CMD INSTALL tpSVG StartedAt: 2025-11-10 15:14:03 -0500 (Mon, 10 Nov 2025) EndedAt: 2025-11-10 15:14:13 -0500 (Mon, 10 Nov 2025) EllapsedTime: 9.8 seconds RetCode: 0 Status: OK