Package: tpSVG Version: 1.6.0 Maintainer: Boyi Guo MaintainerEmail: boyi.guo.work at gmail.com git_url: https://git.bioconductor.org/packages/tpSVG git_branch: RELEASE_3_22 git_last_commit: a7202a9 git_last_commit_date: 2025-10-29 11:28:17 -0400 (Wed, 29 Oct 2025)