Package: topdownr Version: 1.31.1 Command: /home/biocbuild/bbs-3.22-bioc/R/bin/R CMD INSTALL topdownr StartedAt: 2025-10-24 15:47:51 -0400 (Fri, 24 Oct 2025) EndedAt: 2025-10-24 15:48:36 -0400 (Fri, 24 Oct 2025) EllapsedTime: 45.2 seconds RetCode: 0 Status: OK