Package: topdownr Version: 1.31.1 Command: /home/biocbuild/bbs-3.22-bioc/R/bin/R CMD build --keep-empty-dirs --no-resave-data --md5 topdownr StartedAt: 2025-10-24 20:41:08 -0400 (Fri, 24 Oct 2025) EndedAt: 2025-10-24 20:42:35 -0400 (Fri, 24 Oct 2025) EllapsedTime: 87.1 seconds RetCode: 0 Status: OK PackageFile: topdownr_1.31.1.tar.gz PackageFileSize: 1.555 MiB