Package: topGO Version: 2.61.1 Command: /home/biocbuild/bbs-3.22-bioc/R/bin/R CMD INSTALL topGO StartedAt: 2025-10-24 15:49:44 -0400 (Fri, 24 Oct 2025) EndedAt: 2025-10-24 15:50:03 -0400 (Fri, 24 Oct 2025) EllapsedTime: 18.6 seconds RetCode: 0 Status: OK